BEGIN:VCALENDAR
VERSION:2.0
PRODID:-//Global Health - ECPv4.4.4//NONSGML v1.0//EN
CALSCALE:GREGORIAN
METHOD:PUBLISH
X-WR-CALNAME:Global Health
X-ORIGINAL-URL:http://globalhealth.ie
X-WR-CALDESC:Events for Global Health
BEGIN:VEVENT
DTSTART;VALUE=DATE:20171013
DTEND;VALUE=DATE:20171013
DTSTAMP:20170709T175921
CREATED:20170406T112707Z
LAST-MODIFIED:20170406T112707Z
UID:5195-1507852800-1507939199@globalhealth.ie
SUMMARY:International Day for the Girl Child
DESCRIPTION:
URL:http://globalhealth.ie/event/international-day-for-the-girl-child/2017-10-13/
CATEGORIES:World Days
END:VEVENT
BEGIN:VEVENT
DTSTART;VALUE=DATE:20181013
DTEND;VALUE=DATE:20181013
DTSTAMP:20170709T175921
CREATED:20170406T112707Z
LAST-MODIFIED:20170406T112707Z
UID:5197-1539388800-1539388800@globalhealth.ie
SUMMARY:International Day for the Girl Child
DESCRIPTION:
URL:http://globalhealth.ie/event/international-day-for-the-girl-child/2018-10-13/
CATEGORIES:World Days
END:VEVENT
END:VCALENDAR